{
 "tileImageInfo": {
  "format": "JPEG",
  "compressionQuality": 90,
  "bandCount": 1,
  "lercError": 0
 },
 "name": "Layers",
 "version": 1.0,
 "serviceDescription": "World Imagery provides one meter or better satellite and aerial imagery in many parts of the world and lower resolution satellite imagery worldwide. The map includes 15m TerraColor imagery at small and mid-scales (~1:591M down to ~1:288k) for the world. The map features Maxar imagery at 0.3m resolution for select metropolitan areas around the world, 0.5m resolution across the United States and parts of Western Europe, and 1m resolution imagery across the rest of the world. In addition to commercial sources, the World Imagery map features high-resolution aerial photography contributed by the GIS User Community. This imagery ranges from 0.3m to 0.03m resolution (down to ~1:280 in select communities). For more information on this map, including the terms of use, visit us online at http://goto.arcgisonline.com/maps/World_Imagery",
 "tileBundlesPath": "./tile",
 "spatialReference": {
  "wkid": 102100,
  "latestWkid": 3857
 },
 "units": "esriMeters",
 "minLOD": 0,
 "maxLOD": 17,
 "resampling": true,
 "tileInfo": {
  "rows": 256,
  "cols": 256,
  "dpi": 96,
  "origin": {
   "x": -2.0037508342787E7,
   "y": 2.0037508342787E7
  },
  "spatialReference": {
   "wkid": 102100,
   "latestWkid": 3857
  },
  "lods": [
   {
    "level": 0,
    "resolution": 156543.03392800014,
    "scale": 5.91657527591555E8
   },
   {
    "level": 1,
    "resolution": 78271.51696399994,
    "scale": 2.95828763795777E8
   },
   {
    "level": 2,
    "resolution": 39135.75848200009,
    "scale": 1.47914381897889E8
   },
   {
    "level": 3,
    "resolution": 19567.87924099992,
    "scale": 7.3957190948944E7
   },
   {
    "level": 4,
    "resolution": 9783.93962049996,
    "scale": 3.6978595474472E7
   },
   {
    "level": 5,
    "resolution": 4891.96981024998,
    "scale": 1.8489297737236E7
   },
   {
    "level": 6,
    "resolution": 2445.98490512499,
    "scale": 9244648.868618
   },
   {
    "level": 7,
    "resolution": 1222.992452562495,
    "scale": 4622324.434309
   },
   {
    "level": 8,
    "resolution": 611.4962262813797,
    "scale": 2311162.217155
   },
   {
    "level": 9,
    "resolution": 305.74811314055756,
    "scale": 1155581.108577
   },
   {
    "level": 10,
    "resolution": 152.87405657041106,
    "scale": 577790.554289
   },
   {
    "level": 11,
    "resolution": 76.43702828507324,
    "scale": 288895.277144
   },
   {
    "level": 12,
    "resolution": 38.21851414253662,
    "scale": 144447.638572
   },
   {
    "level": 13,
    "resolution": 19.10925707126831,
    "scale": 72223.819286
   },
   {
    "level": 14,
    "resolution": 9.554628535634155,
    "scale": 36111.909643
   },
   {
    "level": 15,
    "resolution": 4.77731426794937,
    "scale": 18055.954822
   },
   {
    "level": 16,
    "resolution": 2.388657133974685,
    "scale": 9027.977411
   },
   {
    "level": 17,
    "resolution": 1.1943285668550503,
    "scale": 4513.988705
   },
   {
    "level": 18,
    "resolution": 0.5971642835598172,
    "scale": 2256.994353
   },
   {
    "level": 19,
    "resolution": 0.29858214164761665,
    "scale": 1128.497176
   },
   {
    "level": 20,
    "resolution": 0.14929107082380833,
    "scale": 564.248588
   },
   {
    "level": 21,
    "resolution": 0.07464553541190416,
    "scale": 282.124294
   },
   {
    "level": 22,
    "resolution": 0.03732276770595208,
    "scale": 141.062147
   },
   {
    "level": 23,
    "resolution": 0.01866138385297604,
    "scale": 70.5310735
   }
  ],
  "format": "JPEG",
  "compressionQuality": 90,
  "bandCount": 1,
  "lercError": 0,
  "storageFormat": "esriMapCacheStorageModeCompactV2",
  "packetSize": 128
 },
 "storageInfo": {
  "storageFormat": "esriMapCacheStorageModeCompactV2",
  "packetSize": 128
 },
 "layers": [
  {
   "id": 0,
   "name": "World Imagery",
   "parentLayerId": -1,
   "defaultVisibility": true,
   "subLayerIds": null,
   "minScale": 0,
   "maxScale": 0,
   "type": "Feature Layer",
   "geometryType": "esriGeometryPolygon",
   "legend": [
    {
     "label": "",
     "imageData": "iVBORw0KGgoAAAANSUhEUgAAABQAAAAUCAYAAACNiR0NAAAAAXNSR0IB2cksfwAAAAlwSFlzAAAOxAAADsQBlSsOGwAAABtJREFUOI1jYaAyYBk1cNTAUQNHDRw1cKQaCAAQKwBR5g8A3AAAAABJRU5ErkJggg==",
     "contentType": "image/png",
     "height": 20,
     "width": 20,
     "layerId": 0,
     "layerName": "World Imagery"
    }
   ],
   "layerId": 0,
   "layerName": "World Imagery",
   "serviceItemId": "30d30818b5e24df0bfd691e0ac9d02b7"
  },
  {
   "id": 1,
   "name": "Low Resolution 15m Imagery",
   "parentLayerId": -1,
   "defaultVisibility": true,
   "subLayerIds": null,
   "minScale": 0,
   "maxScale": 0,
   "type": "Feature Layer",
   "geometryType": "esriGeometryPolygon",
   "legend": [
    {
     "label": "",
     "imageData": "iVBORw0KGgoAAAANSUhEUgAAABQAAAAUCAYAAACNiR0NAAAAAXNSR0IB2cksfwAAAAlwSFlzAAAOxAAADsQBlSsOGwAAABtJREFUOI1jYaAyYBk1cNTAUQNHDRw1cKQaCAAQKwBR5g8A3AAAAABJRU5ErkJggg==",
     "contentType": "image/png",
     "height": 20,
     "width": 20,
     "layerId": 1,
     "layerName": "Low Resolution 15m Imagery"
    }
   ],
   "layerId": 1,
   "layerName": "Low Resolution 15m Imagery",
   "serviceItemId": "30d30818b5e24df0bfd691e0ac9d02b7"
  },
  {
   "id": 2,
   "name": "High Resolution 60cm Imagery",
   "parentLayerId": -1,
   "defaultVisibility": true,
   "subLayerIds": null,
   "minScale": 0,
   "maxScale": 0,
   "type": "Feature Layer",
   "geometryType": "esriGeometryPolygon",
   "legend": [
    {
     "label": "",
     "imageData": "iVBORw0KGgoAAAANSUhEUgAAABQAAAAUCAYAAACNiR0NAAAAAXNSR0IB2cksfwAAAAlwSFlzAAAOxAAADsQBlSsOGwAAABtJREFUOI1jYaAyYBk1cNTAUQNHDRw1cKQaCAAQKwBR5g8A3AAAAABJRU5ErkJggg==",
     "contentType": "image/png",
     "height": 20,
     "width": 20,
     "layerId": 2,
     "layerName": "High Resolution 60cm Imagery"
    }
   ],
   "layerId": 2,
   "layerName": "High Resolution 60cm Imagery",
   "serviceItemId": "30d30818b5e24df0bfd691e0ac9d02b7"
  },
  {
   "id": 3,
   "name": "High Resolution 30cm Imagery",
   "parentLayerId": -1,
   "defaultVisibility": true,
   "subLayerIds": null,
   "minScale": 0,
   "maxScale": 0,
   "type": "Feature Layer",
   "geometryType": "esriGeometryPolygon",
   "legend": [
    {
     "label": "",
     "imageData": "iVBORw0KGgoAAAANSUhEUgAAABQAAAAUCAYAAACNiR0NAAAAAXNSR0IB2cksfwAAAAlwSFlzAAAOxAAADsQBlSsOGwAAABtJREFUOI1jYaAyYBk1cNTAUQNHDRw1cKQaCAAQKwBR5g8A3AAAAABJRU5ErkJggg==",
     "contentType": "image/png",
     "height": 20,
     "width": 20,
     "layerId": 3,
     "layerName": "High Resolution 30cm Imagery"
    }
   ],
   "layerId": 3,
   "layerName": "High Resolution 30cm Imagery",
   "serviceItemId": "30d30818b5e24df0bfd691e0ac9d02b7"
  },
  {
   "id": 4,
   "name": "Citations",
   "parentLayerId": -1,
   "defaultVisibility": true,
   "subLayerIds": null,
   "minScale": 0,
   "maxScale": 0,
   "type": "Feature Layer",
   "geometryType": "esriGeometryPolygon",
   "legend": [
    {
     "label": "",
     "imageData": "iVBORw0KGgoAAAANSUhEUgAAABQAAAAUCAYAAACNiR0NAAAAAXNSR0IB2cksfwAAAAlwSFlzAAAOxAAADsQBlSsOGwAAABtJREFUOI1jYaAyYBk1cNTAUQNHDRw1cKQaCAAQKwBR5g8A3AAAAABJRU5ErkJggg==",
     "contentType": "image/png",
     "height": 20,
     "width": 20,
     "layerId": 4,
     "layerName": "Citations"
    }
   ],
   "layerId": 4,
   "layerName": "Citations",
   "serviceItemId": "30d30818b5e24df0bfd691e0ac9d02b7"
  },
  {
   "id": 5,
   "name": "1.9cm Resolution Metadata",
   "parentLayerId": -1,
   "defaultVisibility": true,
   "subLayerIds": null,
   "minScale": 106,
   "maxScale": 0,
   "type": "Feature Layer",
   "geometryType": "esriGeometryPolygon",
   "legend": [
    {
     "label": "",
     "imageData": "iVBORw0KGgoAAAANSUhEUgAAABQAAAAUCAYAAACNiR0NAAAAAXNSR0IB2cksfwAAAAlwSFlzAAAOxAAADsQBlSsOGwAAABtJREFUOI1jYaAyYBk1cNTAUQNHDRw1cKQaCAAQKwBR5g8A3AAAAABJRU5ErkJggg==",
     "contentType": "image/png",
     "height": 20,
     "width": 20,
     "layerId": 5,
     "layerName": "1.9cm Resolution Metadata"
    }
   ],
   "layerId": 5,
   "layerName": "1.9cm Resolution Metadata",
   "serviceItemId": "30d30818b5e24df0bfd691e0ac9d02b7"
  },
  {
   "id": 6,
   "name": "3.7cm Resolution Metadata",
   "parentLayerId": -1,
   "defaultVisibility": true,
   "subLayerIds": null,
   "minScale": 212,
   "maxScale": 106,
   "type": "Feature Layer",
   "geometryType": "esriGeometryPolygon",
   "legend": [
    {
     "label": "",
     "imageData": "iVBORw0KGgoAAAANSUhEUgAAABQAAAAUCAYAAACNiR0NAAAAAXNSR0IB2cksfwAAAAlwSFlzAAAOxAAADsQBlSsOGwAAABtJREFUOI1jYaAyYBk1cNTAUQNHDRw1cKQaCAAQKwBR5g8A3AAAAABJRU5ErkJggg==",
     "contentType": "image/png",
     "height": 20,
     "width": 20,
     "layerId": 6,
     "layerName": "3.7cm Resolution Metadata"
    }
   ],
   "layerId": 6,
   "layerName": "3.7cm Resolution Metadata",
   "serviceItemId": "30d30818b5e24df0bfd691e0ac9d02b7"
  },
  {
   "id": 7,
   "name": "7.5cm Resolution Metadata",
   "parentLayerId": -1,
   "defaultVisibility": true,
   "subLayerIds": null,
   "minScale": 425,
   "maxScale": 212,
   "type": "Feature Layer",
   "geometryType": "esriGeometryPolygon",
   "legend": [
    {
     "label": "",
     "imageData": "iVBORw0KGgoAAAANSUhEUgAAABQAAAAUCAYAAACNiR0NAAAAAXNSR0IB2cksfwAAAAlwSFlzAAAOxAAADsQBlSsOGwAAABtJREFUOI1jYaAyYBk1cNTAUQNHDRw1cKQaCAAQKwBR5g8A3AAAAABJRU5ErkJggg==",
     "contentType": "image/png",
     "height": 20,
     "width": 20,
     "layerId": 7,
     "layerName": "7.5cm Resolution Metadata"
    }
   ],
   "layerId": 7,
   "layerName": "7.5cm Resolution Metadata",
   "serviceItemId": "30d30818b5e24df0bfd691e0ac9d02b7"
  },
  {
   "id": 8,
   "name": "15cm Resolution Metadata",
   "parentLayerId": -1,
   "defaultVisibility": true,
   "subLayerIds": null,
   "minScale": 850,
   "maxScale": 425,
   "type": "Feature Layer",
   "geometryType": "esriGeometryPolygon",
   "legend": [
    {
     "label": "",
     "imageData": "iVBORw0KGgoAAAANSUhEUgAAABQAAAAUCAYAAACNiR0NAAAAAXNSR0IB2cksfwAAAAlwSFlzAAAOxAAADsQBlSsOGwAAABtJREFUOI1jYaAyYBk1cNTAUQNHDRw1cKQaCAAQKwBR5g8A3AAAAABJRU5ErkJggg==",
     "contentType": "image/png",
     "height": 20,
     "width": 20,
     "layerId": 8,
     "layerName": "15cm Resolution Metadata"
    }
   ],
   "layerId": 8,
   "layerName": "15cm Resolution Metadata",
   "serviceItemId": "30d30818b5e24df0bfd691e0ac9d02b7"
  },
  {
   "id": 9,
   "name": "30cm Resolution Metadata",
   "parentLayerId": -1,
   "defaultVisibility": true,
   "subLayerIds": null,
   "minScale": 1700,
   "maxScale": 850,
   "type": "Feature Layer",
   "geometryType": "esriGeometryPolygon",
   "legend": [
    {
     "label": "",
     "imageData": "iVBORw0KGgoAAAANSUhEUgAAABQAAAAUCAYAAACNiR0NAAAAAXNSR0IB2cksfwAAAAlwSFlzAAAOxAAADsQBlSsOGwAAABtJREFUOI1jYaAyYBk1cNTAUQNHDRw1cKQaCAAQKwBR5g8A3AAAAABJRU5ErkJggg==",
     "contentType": "image/png",
     "height": 20,
     "width": 20,
     "layerId": 9,
     "layerName": "30cm Resolution Metadata"
    }
   ],
   "layerId": 9,
   "layerName": "30cm Resolution Metadata",
   "serviceItemId": "30d30818b5e24df0bfd691e0ac9d02b7"
  },
  {
   "id": 10,
   "name": "60cm Resolution Metadata",
   "parentLayerId": -1,
   "defaultVisibility": true,
   "subLayerIds": null,
   "minScale": 3400,
   "maxScale": 1700,
   "type": "Feature Layer",
   "geometryType": "esriGeometryPolygon",
   "legend": [
    {
     "label": "",
     "imageData": "iVBORw0KGgoAAAANSUhEUgAAABQAAAAUCAYAAACNiR0NAAAAAXNSR0IB2cksfwAAAAlwSFlzAAAOxAAADsQBlSsOGwAAABtJREFUOI1jYaAyYBk1cNTAUQNHDRw1cKQaCAAQKwBR5g8A3AAAAABJRU5ErkJggg==",
     "contentType": "image/png",
     "height": 20,
     "width": 20,
     "layerId": 10,
     "layerName": "60cm Resolution Metadata"
    }
   ],
   "layerId": 10,
   "layerName": "60cm Resolution Metadata",
   "serviceItemId": "30d30818b5e24df0bfd691e0ac9d02b7"
  },
  {
   "id": 11,
   "name": "1.2m Resolution Metadata",
   "parentLayerId": -1,
   "defaultVisibility": true,
   "subLayerIds": null,
   "minScale": 6800,
   "maxScale": 3400,
   "type": "Feature Layer",
   "geometryType": "esriGeometryPolygon",
   "legend": [
    {
     "label": "",
     "imageData": "iVBORw0KGgoAAAANSUhEUgAAABQAAAAUCAYAAACNiR0NAAAAAXNSR0IB2cksfwAAAAlwSFlzAAAOxAAADsQBlSsOGwAAABtJREFUOI1jYaAyYBk1cNTAUQNHDRw1cKQaCAAQKwBR5g8A3AAAAABJRU5ErkJggg==",
     "contentType": "image/png",
     "height": 20,
     "width": 20,
     "layerId": 11,
     "layerName": "1.2m Resolution Metadata"
    }
   ],
   "layerId": 11,
   "layerName": "1.2m Resolution Metadata",
   "serviceItemId": "30d30818b5e24df0bfd691e0ac9d02b7"
  },
  {
   "id": 12,
   "name": "2.4m Resolution Metadata",
   "parentLayerId": -1,
   "defaultVisibility": true,
   "subLayerIds": null,
   "minScale": 13500,
   "maxScale": 6800,
   "type": "Feature Layer",
   "geometryType": "esriGeometryPolygon",
   "legend": [
    {
     "label": "",
     "imageData": "iVBORw0KGgoAAAANSUhEUgAAABQAAAAUCAYAAACNiR0NAAAAAXNSR0IB2cksfwAAAAlwSFlzAAAOxAAADsQBlSsOGwAAABtJREFUOI1jYaAyYBk1cNTAUQNHDRw1cKQaCAAQKwBR5g8A3AAAAABJRU5ErkJggg==",
     "contentType": "image/png",
     "height": 20,
     "width": 20,
     "layerId": 12,
     "layerName": "2.4m Resolution Metadata"
    }
   ],
   "layerId": 12,
   "layerName": "2.4m Resolution Metadata",
   "serviceItemId": "30d30818b5e24df0bfd691e0ac9d02b7"
  },
  {
   "id": 13,
   "name": "4.8m Resolution Metadata",
   "parentLayerId": -1,
   "defaultVisibility": true,
   "subLayerIds": null,
   "minScale": 27000,
   "maxScale": 13500,
   "type": "Feature Layer",
   "geometryType": "esriGeometryPolygon",
   "legend": [
    {
     "label": "",
     "imageData": "iVBORw0KGgoAAAANSUhEUgAAABQAAAAUCAYAAACNiR0NAAAAAXNSR0IB2cksfwAAAAlwSFlzAAAOxAAADsQBlSsOGwAAABtJREFUOI1jYaAyYBk1cNTAUQNHDRw1cKQaCAAQKwBR5g8A3AAAAABJRU5ErkJggg==",
     "contentType": "image/png",
     "height": 20,
     "width": 20,
     "layerId": 13,
     "layerName": "4.8m Resolution Metadata"
    }
   ],
   "layerId": 13,
   "layerName": "4.8m Resolution Metadata",
   "serviceItemId": "30d30818b5e24df0bfd691e0ac9d02b7"
  },
  {
   "id": 14,
   "name": "9.6m Resolution Metadata",
   "parentLayerId": -1,
   "defaultVisibility": true,
   "subLayerIds": null,
   "minScale": 54000,
   "maxScale": 27000,
   "type": "Feature Layer",
   "geometryType": "esriGeometryPolygon",
   "legend": [
    {
     "label": "",
     "imageData": "iVBORw0KGgoAAAANSUhEUgAAABQAAAAUCAYAAACNiR0NAAAAAXNSR0IB2cksfwAAAAlwSFlzAAAOxAAADsQBlSsOGwAAABtJREFUOI1jYaAyYBk1cNTAUQNHDRw1cKQaCAAQKwBR5g8A3AAAAABJRU5ErkJggg==",
     "contentType": "image/png",
     "height": 20,
     "width": 20,
     "layerId": 14,
     "layerName": "9.6m Resolution Metadata"
    }
   ],
   "layerId": 14,
   "layerName": "9.6m Resolution Metadata",
   "serviceItemId": "30d30818b5e24df0bfd691e0ac9d02b7"
  },
  {
   "id": 15,
   "name": "19m Resolution Metadata",
   "parentLayerId": -1,
   "defaultVisibility": true,
   "subLayerIds": null,
   "minScale": 108000,
   "maxScale": 54000,
   "type": "Feature Layer",
   "geometryType": "esriGeometryPolygon",
   "legend": [
    {
     "label": "",
     "imageData": "iVBORw0KGgoAAAANSUhEUgAAABQAAAAUCAYAAACNiR0NAAAAAXNSR0IB2cksfwAAAAlwSFlzAAAOxAAADsQBlSsOGwAAABtJREFUOI1jYaAyYBk1cNTAUQNHDRw1cKQaCAAQKwBR5g8A3AAAAABJRU5ErkJggg==",
     "contentType": "image/png",
     "height": 20,
     "width": 20,
     "layerId": 15,
     "layerName": "19m Resolution Metadata"
    }
   ],
   "layerId": 15,
   "layerName": "19m Resolution Metadata",
   "serviceItemId": "30d30818b5e24df0bfd691e0ac9d02b7"
  },
  {
   "id": 16,
   "name": "38m Resolution Metadata",
   "parentLayerId": -1,
   "defaultVisibility": true,
   "subLayerIds": null,
   "minScale": 216000,
   "maxScale": 108000,
   "type": "Feature Layer",
   "geometryType": "esriGeometryPolygon",
   "legend": [
    {
     "label": "",
     "imageData": "iVBORw0KGgoAAAANSUhEUgAAABQAAAAUCAYAAACNiR0NAAAAAXNSR0IB2cksfwAAAAlwSFlzAAAOxAAADsQBlSsOGwAAABtJREFUOI1jYaAyYBk1cNTAUQNHDRw1cKQaCAAQKwBR5g8A3AAAAABJRU5ErkJggg==",
     "contentType": "image/png",
     "height": 20,
     "width": 20,
     "layerId": 16,
     "layerName": "38m Resolution Metadata"
    }
   ],
   "layerId": 16,
   "layerName": "38m Resolution Metadata",
   "serviceItemId": "30d30818b5e24df0bfd691e0ac9d02b7"
  },
  {
   "id": 17,
   "name": "75m Resolution Metadata",
   "parentLayerId": -1,
   "defaultVisibility": true,
   "subLayerIds": null,
   "minScale": 432000,
   "maxScale": 216000,
   "type": "Feature Layer",
   "geometryType": "esriGeometryPolygon",
   "legend": [
    {
     "label": "",
     "imageData": "iVBORw0KGgoAAAANSUhEUgAAABQAAAAUCAYAAACNiR0NAAAAAXNSR0IB2cksfwAAAAlwSFlzAAAOxAAADsQBlSsOGwAAABtJREFUOI1jYaAyYBk1cNTAUQNHDRw1cKQaCAAQKwBR5g8A3AAAAABJRU5ErkJggg==",
     "contentType": "image/png",
     "height": 20,
     "width": 20,
     "layerId": 17,
     "layerName": "75m Resolution Metadata"
    }
   ],
   "layerId": 17,
   "layerName": "75m Resolution Metadata",
   "serviceItemId": "30d30818b5e24df0bfd691e0ac9d02b7"
  },
  {
   "id": 18,
   "name": "150m Resolution Metadata",
   "parentLayerId": -1,
   "defaultVisibility": true,
   "subLayerIds": null,
   "minScale": 0,
   "maxScale": 432000,
   "type": "Feature Layer",
   "geometryType": "esriGeometryPolygon",
   "legend": [
    {
     "label": "",
     "imageData": "iVBORw0KGgoAAAANSUhEUgAAABQAAAAUCAYAAACNiR0NAAAAAXNSR0IB2cksfwAAAAlwSFlzAAAOxAAADsQBlSsOGwAAABtJREFUOI1jYaAyYBk1cNTAUQNHDRw1cKQaCAAQKwBR5g8A3AAAAABJRU5ErkJggg==",
     "contentType": "image/png",
     "height": 20,
     "width": 20,
     "layerId": 18,
     "layerName": "150m Resolution Metadata"
    }
   ],
   "layerId": 18,
   "layerName": "150m Resolution Metadata",
   "serviceItemId": "30d30818b5e24df0bfd691e0ac9d02b7"
  }
 ],
 "initialExtent": {
  "xmin": -170867.58180933967,
  "ymin": 4773771.916992212,
  "xmax": -95157.74571977631,
  "ymax": 4864256.3784792535,
  "spatialReference": {
   "wkid": 102100,
   "latestWkid": 3857
  }
 },
 "fullExtent": {
  "xmin": -170867.58180933967,
  "ymin": 4773771.916992212,
  "xmax": -95157.74571977631,
  "ymax": 4864256.3784792535,
  "spatialReference": {
   "wkid": 102100,
   "latestWkid": 3857
  }
 },
 "minScale": 147914382,
 "maxScale": 0,
 "exportTilesAllowed": true,
 "maxExportTilesCount": 100000,
 "currentVersion": 11.1,
 "mapName": "Layers",
 "singleFusedMapCache": true,
 "type": "MapServer",
 "supportedExtensions": "",
 "capabilities": "TilesOnly,Tilemap",
 "serviceItemId": "30d30818b5e24df0bfd691e0ac9d02b7"
}
